BEGIN:VCALENDAR
VERSION:2.0
PRODID:-//Kraftwerk Chemnitz - ECPv6.15.18//NONSGML v1.0//EN
CALSCALE:GREGORIAN
METHOD:PUBLISH
X-ORIGINAL-URL:https://kraftwerk-chemnitz.de
X-WR-CALDESC:Veranstaltungen für Kraftwerk Chemnitz
REFRESH-INTERVAL;VALUE=DURATION:PT1H
X-Robots-Tag:noindex
X-PUBLISHED-TTL:PT1H
BEGIN:VTIMEZONE
TZID:Europe/Berlin
BEGIN:DAYLIGHT
TZOFFSETFROM:+0100
TZOFFSETTO:+0200
TZNAME:CEST
DTSTART:20240331T010000
END:DAYLIGHT
BEGIN:STANDARD
TZOFFSETFROM:+0200
TZOFFSETTO:+0100
TZNAME:CET
DTSTART:20241027T010000
END:STANDARD
BEGIN:DAYLIGHT
TZOFFSETFROM:+0100
TZOFFSETTO:+0200
TZNAME:CEST
DTSTART:20250330T010000
END:DAYLIGHT
BEGIN:STANDARD
TZOFFSETFROM:+0200
TZOFFSETTO:+0100
TZNAME:CET
DTSTART:20251026T010000
END:STANDARD
BEGIN:DAYLIGHT
TZOFFSETFROM:+0100
TZOFFSETTO:+0200
TZNAME:CEST
DTSTART:20260329T010000
END:DAYLIGHT
BEGIN:STANDARD
TZOFFSETFROM:+0200
TZOFFSETTO:+0100
TZNAME:CET
DTSTART:20261025T010000
END:STANDARD
END:VTIMEZONE
BEGIN:VEVENT
DTSTART;VALUE=DATE:20251031
DTEND;VALUE=DATE:20251103
DTSTAMP:20260420T003027
CREATED:20250808T142726Z
LAST-MODIFIED:20250808T142726Z
UID:7163-1761868800-1762127999@kraftwerk-chemnitz.de
SUMMARY:35. Modellbahn-Ausstellung
DESCRIPTION:Ausstellung von verschiedenen Anlagen:\n– H0-Anlagen\, darunter eine Winteranlage\n– Präsentation einer digitalen H0-Modulanlage\, bekannt aus der Fernsehsendung „Eisenbahnromantik“ des SWR\n– TT-Anlagen (auch Modulanlagen)\, die größte transportable TT-Anlage des Erzgebirges\n– Dioramen\n– N-Anlage mit Straßenbahn\n– Bahnhof Roßwein (Spur N)\n– Modelleisenbahn-Club Lößnitzgrund e.V.\n– Modellbahnteam Chemnitz\n– Kreativangebote rund um die Modellbahn und vieles mehr \nTauschmarkt für Modellbahnartikel und Zubehör \nAnmeldung unter Tel. 0371 383903-0 oder per mail unter kraftwerk-chemnitz@t-online.de \nÖffnungszeit:      10:00 bis 18:00 Uhr
URL:https://kraftwerk-chemnitz.de/event/35-modellbahn-ausstellung/
LOCATION:Kraftwerk e.V.\, Kaßbergstraße 36\, 09112 Chemnitz
CATEGORIES:Höhepunkte des Jahres
ORGANIZER;CN="Kraftwerk e.V.":MAILTO:kraftwerk-chemnitz@t-online.de
END:VEVENT
BEGIN:VEVENT
DTSTART;VALUE=DATE:20251102
DTEND;VALUE=DATE:20251103
DTSTAMP:20260420T003027
CREATED:20251010T065829Z
LAST-MODIFIED:20251010T065829Z
UID:7311-1762041600-1762127999@kraftwerk-chemnitz.de
SUMMARY:Chemnitzer Anime Treff
DESCRIPTION:Cosplayer\, Spielinteressierte und Freunde der Verkleidung treffen sich und tauschen Erfahrungen. \nEintritt: frei\nBeginn: 11:30 Uhr \n 
URL:https://kraftwerk-chemnitz.de/event/chemnitzer-anime-treff-58/
LOCATION:Kraftwerk e.V. Jugendklub\, Kaßbergstraße 36\, Chemnitz\, 09112\, Deutschland
CATEGORIES:für Kinder und Jugendliche
ORGANIZER;CN="Kraftwerk e.V.":MAILTO:kraftwerk-chemnitz@t-online.de
END:VEVENT
END:VCALENDAR