BEGIN:VCALENDAR
VERSION:2.0
PRODID:-//Kraftwerk Chemnitz - ECPv6.15.18//NONSGML v1.0//EN
CALSCALE:GREGORIAN
METHOD:PUBLISH
X-WR-CALNAME:Kraftwerk Chemnitz
X-ORIGINAL-URL:https://kraftwerk-chemnitz.de
X-WR-CALDESC:Veranstaltungen für Kraftwerk Chemnitz
REFRESH-INTERVAL;VALUE=DURATION:PT1H
X-Robots-Tag:noindex
X-PUBLISHED-TTL:PT1H
BEGIN:VTIMEZONE
TZID:Europe/Berlin
BEGIN:DAYLIGHT
TZOFFSETFROM:+0100
TZOFFSETTO:+0200
TZNAME:CEST
DTSTART:20240331T010000
END:DAYLIGHT
BEGIN:STANDARD
TZOFFSETFROM:+0200
TZOFFSETTO:+0100
TZNAME:CET
DTSTART:20241027T010000
END:STANDARD
BEGIN:DAYLIGHT
TZOFFSETFROM:+0100
TZOFFSETTO:+0200
TZNAME:CEST
DTSTART:20250330T010000
END:DAYLIGHT
BEGIN:STANDARD
TZOFFSETFROM:+0200
TZOFFSETTO:+0100
TZNAME:CET
DTSTART:20251026T010000
END:STANDARD
BEGIN:DAYLIGHT
TZOFFSETFROM:+0100
TZOFFSETTO:+0200
TZNAME:CEST
DTSTART:20260329T010000
END:DAYLIGHT
BEGIN:STANDARD
TZOFFSETFROM:+0200
TZOFFSETTO:+0100
TZNAME:CET
DTSTART:20261025T010000
END:STANDARD
END:VTIMEZONE
BEGIN:VEVENT
DTSTART;TZID=Europe/Berlin:20251204T150000
DTEND;TZID=Europe/Berlin:20251204T163000
DTSTAMP:20260419T224508
CREATED:20251106T112732Z
LAST-MODIFIED:20251106T112732Z
UID:7329-1764860400-1764865800@kraftwerk-chemnitz.de
SUMMARY:Musikcafé Da Capo
DESCRIPTION:Musik für Senioren in Chemnitz präsentiert: \n„Jugend musiziert“  \n  \nmit Musikschülern der Städtischen Musikschule Chemnitz\, \ndie am Musikwettbewerb „Jugend musiziert“ 2026 teilnehmen werden \n  \nEintritt: 7\,00 € inklusive Kaffee und Kuchen ab 14:00 Uhr \nDas Musikcafé Da Capo ist eine Kooperationsveranstaltung zwischen der Städtischen Musikschule Chemnitz und dem Kraftwerk e.V.
URL:https://kraftwerk-chemnitz.de/event/musikcafe-da-capo-12/
LOCATION:Kraftwerk e.V. – Saal
CATEGORIES:Konzert
END:VEVENT
END:VCALENDAR