BEGIN:VCALENDAR
VERSION:2.0
PRODID:-//Kraftwerk Chemnitz - ECPv6.15.18//NONSGML v1.0//EN
CALSCALE:GREGORIAN
METHOD:PUBLISH
X-WR-CALNAME:Kraftwerk Chemnitz
X-ORIGINAL-URL:https://kraftwerk-chemnitz.de
X-WR-CALDESC:Veranstaltungen für Kraftwerk Chemnitz
REFRESH-INTERVAL;VALUE=DURATION:PT1H
X-Robots-Tag:noindex
X-PUBLISHED-TTL:PT1H
BEGIN:VTIMEZONE
TZID:Europe/Berlin
BEGIN:DAYLIGHT
TZOFFSETFROM:+0100
TZOFFSETTO:+0200
TZNAME:CEST
DTSTART:20250330T010000
END:DAYLIGHT
BEGIN:STANDARD
TZOFFSETFROM:+0200
TZOFFSETTO:+0100
TZNAME:CET
DTSTART:20251026T010000
END:STANDARD
BEGIN:DAYLIGHT
TZOFFSETFROM:+0100
TZOFFSETTO:+0200
TZNAME:CEST
DTSTART:20260329T010000
END:DAYLIGHT
BEGIN:STANDARD
TZOFFSETFROM:+0200
TZOFFSETTO:+0100
TZNAME:CET
DTSTART:20261025T010000
END:STANDARD
BEGIN:DAYLIGHT
TZOFFSETFROM:+0100
TZOFFSETTO:+0200
TZNAME:CEST
DTSTART:20270328T010000
END:DAYLIGHT
BEGIN:STANDARD
TZOFFSETFROM:+0200
TZOFFSETTO:+0100
TZNAME:CET
DTSTART:20271031T010000
END:STANDARD
END:VTIMEZONE
BEGIN:VEVENT
DTSTART;TZID=Europe/Berlin:20260205T150000
DTEND;TZID=Europe/Berlin:20260205T163000
DTSTAMP:20260419T191044
CREATED:20260121T163549Z
LAST-MODIFIED:20260121T163549Z
UID:7390-1770303600-1770309000@kraftwerk-chemnitz.de
SUMMARY:Da Capo - Musikcafé
DESCRIPTION:Rhythmus für den Alltag!\nMusik für Senioren in Chemnitz präsentiert: \n„Was? Chemnitz?! Stefan Tschöck“ \nNancy Gibson plaudert mit Stefan Tschök\, Verkehrwissenschaftler und Chemnitzer Autor. \nEintritt: 7\,00 € inklusive Kaffee und Kuchen ab 14:00 Uhr\nDas Musikcafé Da Capo ist eine Kooperationsveranstaltung zwischen der Städtischen Musikschule Chemnitz und dem Kraftwerk e.V.
URL:https://kraftwerk-chemnitz.de/event/da-capo-musikcafe-56/
LOCATION:Kraftwerk e.V. – Saal
CATEGORIES:Events
END:VEVENT
END:VCALENDAR