BEGIN:VCALENDAR
VERSION:2.0
PRODID:-//Kraftwerk Chemnitz - ECPv6.15.18//NONSGML v1.0//EN
CALSCALE:GREGORIAN
METHOD:PUBLISH
X-WR-CALNAME:Kraftwerk Chemnitz
X-ORIGINAL-URL:https://kraftwerk-chemnitz.de
X-WR-CALDESC:Veranstaltungen für Kraftwerk Chemnitz
REFRESH-INTERVAL;VALUE=DURATION:PT1H
X-Robots-Tag:noindex
X-PUBLISHED-TTL:PT1H
BEGIN:VTIMEZONE
TZID:Europe/Berlin
BEGIN:DAYLIGHT
TZOFFSETFROM:+0100
TZOFFSETTO:+0200
TZNAME:CEST
DTSTART:20250330T010000
END:DAYLIGHT
BEGIN:STANDARD
TZOFFSETFROM:+0200
TZOFFSETTO:+0100
TZNAME:CET
DTSTART:20251026T010000
END:STANDARD
BEGIN:DAYLIGHT
TZOFFSETFROM:+0100
TZOFFSETTO:+0200
TZNAME:CEST
DTSTART:20260329T010000
END:DAYLIGHT
BEGIN:STANDARD
TZOFFSETFROM:+0200
TZOFFSETTO:+0100
TZNAME:CET
DTSTART:20261025T010000
END:STANDARD
BEGIN:DAYLIGHT
TZOFFSETFROM:+0100
TZOFFSETTO:+0200
TZNAME:CEST
DTSTART:20270328T010000
END:DAYLIGHT
BEGIN:STANDARD
TZOFFSETFROM:+0200
TZOFFSETTO:+0100
TZNAME:CET
DTSTART:20271031T010000
END:STANDARD
END:VTIMEZONE
BEGIN:VEVENT
DTSTART;TZID=Europe/Berlin:20260216T090000
DTEND;TZID=Europe/Berlin:20260216T110000
DTSTAMP:20260419T190851
CREATED:20260116T125331Z
LAST-MODIFIED:20260128T111308Z
UID:7383-1771232400-1771239600@kraftwerk-chemnitz.de
SUMMARY:Kinderfasching
DESCRIPTION:Unter dem Motto „Karneval der Tiere“ startet eine tolle Party mit Musik\, Spiel und Spaß. \nFür Unterhaltung sorgt Marko Neubert mit „Kuno`s Kinderkiste“. \nEs gibt Spiele\, Rätsel und Suchbilder\, eine Kleinigkeit zum Basteln und die Kinder können sich schminken lassen. \nDie besten Kostüme werden prämiert. \n  \nEintritt: 4\,00 € inkl. Getränk und Pfannkuchen \nWir bitten um Anmeldung unter 0371 383903-0.
URL:https://kraftwerk-chemnitz.de/event/kinderfasching-5/
LOCATION:Kraftwerk e.V. – Saal
CATEGORIES:Ferienprogramm
ORGANIZER;CN="Kraftwerk e.V.":MAILTO:kraftwerk-chemnitz@t-online.de
END:VEVENT
END:VCALENDAR