BEGIN:VCALENDAR
VERSION:2.0
PRODID:-//Kraftwerk Chemnitz - ECPv6.15.18//NONSGML v1.0//EN
CALSCALE:GREGORIAN
METHOD:PUBLISH
X-WR-CALNAME:Kraftwerk Chemnitz
X-ORIGINAL-URL:https://kraftwerk-chemnitz.de
X-WR-CALDESC:Veranstaltungen für Kraftwerk Chemnitz
REFRESH-INTERVAL;VALUE=DURATION:PT1H
X-Robots-Tag:noindex
X-PUBLISHED-TTL:PT1H
BEGIN:VTIMEZONE
TZID:Europe/Berlin
BEGIN:DAYLIGHT
TZOFFSETFROM:+0100
TZOFFSETTO:+0200
TZNAME:CEST
DTSTART:20250330T010000
END:DAYLIGHT
BEGIN:STANDARD
TZOFFSETFROM:+0200
TZOFFSETTO:+0100
TZNAME:CET
DTSTART:20251026T010000
END:STANDARD
BEGIN:DAYLIGHT
TZOFFSETFROM:+0100
TZOFFSETTO:+0200
TZNAME:CEST
DTSTART:20260329T010000
END:DAYLIGHT
BEGIN:STANDARD
TZOFFSETFROM:+0200
TZOFFSETTO:+0100
TZNAME:CET
DTSTART:20261025T010000
END:STANDARD
BEGIN:DAYLIGHT
TZOFFSETFROM:+0100
TZOFFSETTO:+0200
TZNAME:CEST
DTSTART:20270328T010000
END:DAYLIGHT
BEGIN:STANDARD
TZOFFSETFROM:+0200
TZOFFSETTO:+0100
TZNAME:CET
DTSTART:20271031T010000
END:STANDARD
END:VTIMEZONE
BEGIN:VEVENT
DTSTART;VALUE=DATE:20260422
DTEND;VALUE=DATE:20260423
DTSTAMP:20260419T152343
CREATED:20260401T122508Z
LAST-MODIFIED:20260410T120108Z
UID:7523-1776816000-1776902399@kraftwerk-chemnitz.de
SUMMARY:Ehrenamt Stammtisch
DESCRIPTION:Du möchtest Kultur lebendig mitgestalten\, \ngemeinsam kreative Projekte starten. \nLerne uns kennen… \nUnser Ehrenamt-Stammtisch findet jeden letzten Mittwoch im Monat um 17:00 Uhr statt. \n  \nMelde Dich bei uns unter Tel. 0371 383903-0 oder per mail kraftwerk-chemnitz@t-online.de \nWir freuen uns auf Dich!
URL:https://kraftwerk-chemnitz.de/event/ehrenamt-stammtisch-2/
LOCATION:Kraftwerk e.V.\, Kaßbergstraße 36\, 09112 Chemnitz
CATEGORIES:Veranstaltungen
ORGANIZER;CN="Kraftwerk e.V.":MAILTO:kraftwerk-chemnitz@t-online.de
END:VEVENT
BEGIN:VEVENT
DTSTART;TZID=Europe/Berlin:20260422T170000
DTEND;TZID=Europe/Berlin:20260422T190000
DTSTAMP:20260419T152343
CREATED:20260217T143200Z
LAST-MODIFIED:20260217T143200Z
UID:7434-1776877200-1776884400@kraftwerk-chemnitz.de
SUMMARY:Cosplay-Werkstatt
DESCRIPTION:Cosplay-Werkstatt mit Miss Nero. \nTeilnahmegebühr pro Workshop: 15\,00 € \nTermine nach Vereinbarung \nAnmeldung unter: info@missnero.com oder kraftwerk-chemnitz@t-online.de
URL:https://kraftwerk-chemnitz.de/event/cosplay-werkstatt-5/
LOCATION:Kraftwerk e.V.\, Kaßbergstraße 36\, 09112 Chemnitz
CATEGORIES:Workshop
END:VEVENT
BEGIN:VEVENT
DTSTART;TZID=Europe/Berlin:20260425T090000
DTEND;TZID=Europe/Berlin:20260425T160000
DTSTAMP:20260419T152343
CREATED:20260210T093556Z
LAST-MODIFIED:20260210T093556Z
UID:7417-1777107600-1777132800@kraftwerk-chemnitz.de
SUMMARY:5. Modellbahn-Kreativ-Tag
DESCRIPTION:Tauschmarkt für Modellbahnartikel und Kreativangebote für Modellbahn \nMit dabei ist die Modellbahn AG des Kraftwerk e.V. \nFür einen Imbiss ist gesorgt. \nEintritt: 2\,00 € \n 
URL:https://kraftwerk-chemnitz.de/event/5-modellbahn-kreativ-tag/
LOCATION:Kraftwerk e.V.\, Kaßbergstraße 36\, 09112 Chemnitz
CATEGORIES:Events
ORGANIZER;CN="Kraftwerk e.V.":MAILTO:kraftwerk-chemnitz@t-online.de
END:VEVENT
BEGIN:VEVENT
DTSTART;TZID=Europe/Berlin:20260427T180000
DTEND;TZID=Europe/Berlin:20260427T190000
DTSTAMP:20260419T152343
CREATED:20260414T140933Z
LAST-MODIFIED:20260414T140933Z
UID:7556-1777312800-1777316400@kraftwerk-chemnitz.de
SUMMARY:Es ist Spielzeit
DESCRIPTION:Es ist wieder Spielzeit. \nEin Kammerkonzert mit Musikerinnen und Musikern der Robert-Schumann-Philharmonie und \neinem neuen Projekt „Orchester des Wandels“. \nDas Programm: \nClaude Debussy –  Trio für Flöte\, Viola und Harfe (1916) \nFlöte: Tomasz Sierant\nViola: Lucas Freund\nHarfe: Petra Růžička \nFelix Mendelssohn-Bartholdy – Oktett Es Dur op. 20 \nViolinen: Josef Vlček\, Blanca Barrientos López\, Ruth Petrovitsch\, Friederike Pansa\nBratschen: Ulla Walenta\, Albrecht Kunath\nVioloncelli: Sofía Ogas González\, Thomas Bruder \nDer Eintritt ist frei\, wir bitten um eine Spende.
URL:https://kraftwerk-chemnitz.de/event/es-ist-spielzeit-41/
LOCATION:Kraftwerk e.V. – Saal
CATEGORIES:Konzert
ORGANIZER;CN="Kraftwerk e.V.":MAILTO:kraftwerk-chemnitz@t-online.de
END:VEVENT
BEGIN:VEVENT
DTSTART;VALUE=DATE:20260503
DTEND;VALUE=DATE:20260504
DTSTAMP:20260419T152343
CREATED:20260401T132101Z
LAST-MODIFIED:20260401T132101Z
UID:7533-1777766400-1777852799@kraftwerk-chemnitz.de
SUMMARY:Chemnitzer Anime Treff
DESCRIPTION:Cosplayer\, Spielinteressierte und Freunde der Verkleidung treffen sich und tauschen Erfahrungen.\nEintritt: frei\nBeginn: 11:30 Uhr
URL:https://kraftwerk-chemnitz.de/event/chemnitzer-anime-treff-63/
LOCATION:Kraftwerk e.V. Jugendklub\, Kaßbergstraße 36\, Chemnitz\, 09112\, Deutschland
CATEGORIES:für Kinder und Jugendliche
END:VEVENT
BEGIN:VEVENT
DTSTART;TZID=Europe/Berlin:20260507T150000
DTEND;TZID=Europe/Berlin:20260507T163000
DTSTAMP:20260419T152343
CREATED:20260401T131507Z
LAST-MODIFIED:20260401T131507Z
UID:7531-1778166000-1778171400@kraftwerk-chemnitz.de
SUMMARY:Da Capo - Musikcafé
DESCRIPTION:Rhythmus für den Alltag! \nMusik für Senioren in Chemnitz präsentiert: \n„Auftakt(e) –  Vorfreude auf das 35. Sächsische Mozartfest – Von Angesicht zu Angesicht“    \nNancy Gibson im Gespräch mit Sebastian Schilling \nIm Anschluss wird Mareike Hohlfeld „Theater der Welt“ vorstellen. \n  \nEintritt: 7\,00 € inklusive Kaffee und Kuchen ab 14:00 Uhr \nDas Musikcafé Da Capo ist eine Kooperationsveranstaltung zwischen der Städtischen Musikschule Chemnitz und dem Kraftwerk e.V.
URL:https://kraftwerk-chemnitz.de/event/da-capo-musikcafe-59/
LOCATION:Kraftwerk e.V. – Saal
CATEGORIES:Veranstaltungen
END:VEVENT
BEGIN:VEVENT
DTSTART;TZID=Europe/Berlin:20260510T150000
DTEND;TZID=Europe/Berlin:20260510T190000
DTSTAMP:20260419T152343
CREATED:20260217T144243Z
LAST-MODIFIED:20260217T144243Z
UID:7440-1778425200-1778439600@kraftwerk-chemnitz.de
SUMMARY:Tanztee 50plus
DESCRIPTION:Wir bitten zum Tanz in den Saal des Kraftwerkes\, Kaßbergstr. 36. \nJürgen Grubert spielt Livemusik. \nFür einen kleinen Imbiss mit Getränken und Kuchen ist gesorgt. \nEinlass und Kartenverkauf: 14:00 Uhr\, Tanzveranstaltung 15:00 bis 19:00 Uhr\nEintritt: 7\,00 €
URL:https://kraftwerk-chemnitz.de/event/tanztee-50plus-71/
LOCATION:Kraftwerk e.V. – Saal
CATEGORIES:Seniorentanz
END:VEVENT
BEGIN:VEVENT
DTSTART;TZID=Europe/Berlin:20260513T150000
DTEND;TZID=Europe/Berlin:20260513T163000
DTSTAMP:20260419T152343
CREATED:20260401T125812Z
LAST-MODIFIED:20260401T125812Z
UID:7529-1778684400-1778689800@kraftwerk-chemnitz.de
SUMMARY:In Chemnitz entdeckt
DESCRIPTION:„In Chemnitz entdeckt“ rückt Themen in den Fokus\, \ndie unsere Heimat bewegen und bietet eine Bühne dafür\, \nAltbekanntes neu zu entdecken\, \nsich aus erster Hand zu informieren und aktiv mitzureden. \nDazu laden das Kraftwerk und Moderatorin Conny Hartmann herzlich ein. \n13.05.2026:  \nNach dem „Hype“ der Kulturhauptstadt – Was bleibt für Stadt und Region? \nDiskussionswürdiges mit Stefan Tschök\, Autor und Kulturhauptstadt-Begleiter \nBeginn: 15:00 Uhr \nEintritt: 5\,00 € \n 
URL:https://kraftwerk-chemnitz.de/event/in-chemnitz-entdeckt-27/
LOCATION:Kraftwerk e.V. – Saal
CATEGORIES:Vortragsreihe
ORGANIZER;CN="Kraftwerk e.V.":MAILTO:kraftwerk-chemnitz@t-online.de
END:VEVENT
BEGIN:VEVENT
DTSTART;VALUE=DATE:20260527
DTEND;VALUE=DATE:20260528
DTSTAMP:20260419T152343
CREATED:20260401T122643Z
LAST-MODIFIED:20260401T122643Z
UID:7525-1779840000-1779926399@kraftwerk-chemnitz.de
SUMMARY:Ehrenamt Stammtisch
DESCRIPTION:Du möchtest Kultur lebendig mitgestalten\, \ngemeinsam kreative Projekte starten. \nLerne uns kennen… \nUnser Ehrenamt-Stammtisch findet jeden letzten Mittwoch im Monat um 17:00 Uhr statt. \n  \nMelde Dich bei uns unter Tel. 0371 383903-0 oder per mail kraftwerk-chemnitz@t-online.de \nWir freuen uns auf Dich!
URL:https://kraftwerk-chemnitz.de/event/ehrenamt-stammtisch-3/
LOCATION:Kraftwerk e.V.\, Kaßbergstraße 36\, 09112 Chemnitz
CATEGORIES:Veranstaltungen
ORGANIZER;CN="Kraftwerk e.V.":MAILTO:kraftwerk-chemnitz@t-online.de
END:VEVENT
BEGIN:VEVENT
DTSTART;TZID=Europe/Berlin:20260604T150000
DTEND;TZID=Europe/Berlin:20260604T163000
DTSTAMP:20260419T152343
CREATED:20260401T133342Z
LAST-MODIFIED:20260401T133342Z
UID:7535-1780585200-1780590600@kraftwerk-chemnitz.de
SUMMARY:Da Capo - Musikcafé
DESCRIPTION:Rhythmus für den Alltag! \nMusik für Senioren in Chemnitz präsentiert: \n„Musikcafé Da Capo Finale…“   \nNancy Gibson und Ute Dziuballa plaudern über alte Zeiten mit ehemaligen Teilnehmern. \n  \nEintritt: 7\,00 € inklusive Kaffee und Kuchen ab 14:00 Uhr \nDas Musikcafé Da Capo ist eine Kooperationsveranstaltung zwischen der Städtischen Musikschule Chemnitz und dem Kraftwerk e.V.
URL:https://kraftwerk-chemnitz.de/event/da-capo-musikcafe-60/
LOCATION:Kraftwerk e.V. – Saal
CATEGORIES:Veranstaltungen
END:VEVENT
BEGIN:VEVENT
DTSTART;VALUE=DATE:20260607
DTEND;VALUE=DATE:20260608
DTSTAMP:20260419T152343
CREATED:20260401T133555Z
LAST-MODIFIED:20260401T133555Z
UID:7537-1780790400-1780876799@kraftwerk-chemnitz.de
SUMMARY:Chemnitzer Anime Treff
DESCRIPTION:Cosplayer\, Spielinteressierte und Freunde der Verkleidung treffen sich und tauschen Erfahrungen.\nEintritt: frei\nBeginn: 11:30 Uhr
URL:https://kraftwerk-chemnitz.de/event/chemnitzer-anime-treff-64/
LOCATION:Kraftwerk e.V. Jugendklub\, Kaßbergstraße 36\, Chemnitz\, 09112\, Deutschland
CATEGORIES:für Kinder und Jugendliche
END:VEVENT
BEGIN:VEVENT
DTSTART;TZID=Europe/Berlin:20260617T150000
DTEND;TZID=Europe/Berlin:20260617T163000
DTSTAMP:20260419T152343
CREATED:20260401T134046Z
LAST-MODIFIED:20260401T134046Z
UID:7539-1781708400-1781713800@kraftwerk-chemnitz.de
SUMMARY:In Chemnitz entdeckt
DESCRIPTION:„In Chemnitz entdeckt“ rückt Themen in den Fokus\, \ndie unsere Heimat bewegen und bietet eine Bühne dafür\, \nAltbekanntes neu zu entdecken\, \nsich aus erster Hand zu informieren und aktiv mitzureden. \nDazu laden das Kraftwerk und Moderatorin Conny Hartmann herzlich ein. \n17.06.2026:  \nKlein aber fein\, das Bierb(r)auprojekt: \nVom Garagensud zur vogtländischen Minibrauerei – Einblick in Technik\, Handwerk und Geschmack \nmit Tobias Böttiger\, Hobbybrauer und Gründer des Ellefelder Biers \nBeginn: 15:00 Uhr \nEintritt: 5\,00 €
URL:https://kraftwerk-chemnitz.de/event/in-chemnitz-entdeckt-28/
LOCATION:Kraftwerk e.V. – Saal
CATEGORIES:Vortragsreihe
ORGANIZER;CN="Kraftwerk e.V.":MAILTO:kraftwerk-chemnitz@t-online.de
END:VEVENT
BEGIN:VEVENT
DTSTART;VALUE=DATE:20260624
DTEND;VALUE=DATE:20260625
DTSTAMP:20260419T152343
CREATED:20260401T122932Z
LAST-MODIFIED:20260401T122932Z
UID:7527-1782259200-1782345599@kraftwerk-chemnitz.de
SUMMARY:Ehrenamt Stammtisch
DESCRIPTION:Du möchtest Kultur lebendig mitgestalten\, \ngemeinsam kreative Projekte starten. \nLerne uns kennen… \nUnser Ehrenamt-Stammtisch findet jeden letzten Mittwoch im Monat um 17:00 Uhr statt. \nTermin: 24.06.26 \nnächster Treff nach der Sommerpause \n  \nMelde Dich bei uns unter Tel. 0371 383903-0 oder per mail kraftwerk-chemnitz@t-online.de \nWir freuen uns auf Dich!
URL:https://kraftwerk-chemnitz.de/event/ehrenamt-stammtisch-4/
LOCATION:Kraftwerk e.V.\, Kaßbergstraße 36\, 09112 Chemnitz
CATEGORIES:Veranstaltungen
ORGANIZER;CN="Kraftwerk e.V.":MAILTO:kraftwerk-chemnitz@t-online.de
END:VEVENT
BEGIN:VEVENT
DTSTART;TZID=Europe/Berlin:20260624T170000
DTEND;TZID=Europe/Berlin:20260624T190000
DTSTAMP:20260419T152343
CREATED:20260217T143332Z
LAST-MODIFIED:20260217T143332Z
UID:7436-1782320400-1782327600@kraftwerk-chemnitz.de
SUMMARY:Cosplay-Werkstatt
DESCRIPTION:Cosplay-Werkstatt mit Miss Nero. \nTeilnahmegebühr pro Workshop: 15\,00 € \nTermine nach Vereinbarung \nAnmeldung unter: info@missnero.com oder kraftwerk-chemnitz@t-online.de
URL:https://kraftwerk-chemnitz.de/event/cosplay-werkstatt-6/
LOCATION:Kraftwerk e.V.\, Kaßbergstraße 36\, 09112 Chemnitz
CATEGORIES:Workshop
END:VEVENT
END:VCALENDAR