BEGIN:VCALENDAR
VERSION:2.0
PRODID:-//Kraftwerk Chemnitz - ECPv6.15.18//NONSGML v1.0//EN
CALSCALE:GREGORIAN
METHOD:PUBLISH
X-WR-CALNAME:Kraftwerk Chemnitz
X-ORIGINAL-URL:https://kraftwerk-chemnitz.de
X-WR-CALDESC:Veranstaltungen für Kraftwerk Chemnitz
REFRESH-INTERVAL;VALUE=DURATION:PT1H
X-Robots-Tag:noindex
X-PUBLISHED-TTL:PT1H
BEGIN:VTIMEZONE
TZID:Europe/Berlin
BEGIN:DAYLIGHT
TZOFFSETFROM:+0100
TZOFFSETTO:+0200
TZNAME:CEST
DTSTART:20200329T010000
END:DAYLIGHT
BEGIN:STANDARD
TZOFFSETFROM:+0200
TZOFFSETTO:+0100
TZNAME:CET
DTSTART:20201025T010000
END:STANDARD
BEGIN:DAYLIGHT
TZOFFSETFROM:+0100
TZOFFSETTO:+0200
TZNAME:CEST
DTSTART:20210328T010000
END:DAYLIGHT
BEGIN:STANDARD
TZOFFSETFROM:+0200
TZOFFSETTO:+0100
TZNAME:CET
DTSTART:20211031T010000
END:STANDARD
BEGIN:DAYLIGHT
TZOFFSETFROM:+0100
TZOFFSETTO:+0200
TZNAME:CEST
DTSTART:20220327T010000
END:DAYLIGHT
BEGIN:STANDARD
TZOFFSETFROM:+0200
TZOFFSETTO:+0100
TZNAME:CET
DTSTART:20221030T010000
END:STANDARD
BEGIN:DAYLIGHT
TZOFFSETFROM:+0100
TZOFFSETTO:+0200
TZNAME:CEST
DTSTART:20230326T010000
END:DAYLIGHT
BEGIN:STANDARD
TZOFFSETFROM:+0200
TZOFFSETTO:+0100
TZNAME:CET
DTSTART:20231029T010000
END:STANDARD
BEGIN:DAYLIGHT
TZOFFSETFROM:+0100
TZOFFSETTO:+0200
TZNAME:CEST
DTSTART:20240331T010000
END:DAYLIGHT
BEGIN:STANDARD
TZOFFSETFROM:+0200
TZOFFSETTO:+0100
TZNAME:CET
DTSTART:20241027T010000
END:STANDARD
BEGIN:DAYLIGHT
TZOFFSETFROM:+0100
TZOFFSETTO:+0200
TZNAME:CEST
DTSTART:20250330T010000
END:DAYLIGHT
BEGIN:STANDARD
TZOFFSETFROM:+0200
TZOFFSETTO:+0100
TZNAME:CET
DTSTART:20251026T010000
END:STANDARD
END:VTIMEZONE
BEGIN:VEVENT
DTSTART;VALUE=DATE:20240706
DTEND;VALUE=DATE:20240707
DTSTAMP:20260421T121320
CREATED:20240704T074328Z
LAST-MODIFIED:20240704T075103Z
UID:5807-1720224000-1720310399@kraftwerk-chemnitz.de
SUMMARY:Cosplayball - "Tanabata Ball"
DESCRIPTION:Beim Cosplayball gibt es einen Tanzkurs\, gute Musik \, einen Fotoraum und \nes wird wieder eine Ballkönigin und ein Ballkönig gewählt. \n  \n16:00 – 24:00 Uhr \nEinlass: 16:00 Uhr \nEintritt: 15:00 €
URL:https://kraftwerk-chemnitz.de/event/cosplayball-tanabata-ball-3/
LOCATION:Kraftwerk e.V. – Saal
CATEGORIES:Events
ORGANIZER;CN="Kraftwerk e.V.":MAILTO:kraftwerk-chemnitz@t-online.de
END:VEVENT
BEGIN:VEVENT
DTSTART;VALUE=DATE:20231001
DTEND;VALUE=DATE:20231002
DTSTAMP:20260421T121320
CREATED:20230811T111709Z
LAST-MODIFIED:20230904T172747Z
UID:5273-1696118400-1696204799@kraftwerk-chemnitz.de
SUMMARY:Chemnitzer Anime Treff
DESCRIPTION:Cosplayer\, Spielinteressierte und Freunde der Verkleidung treffen sich\, tauschen Erfahrungen… \nEintritt: frei \nBeginn: 14:00 Uhr
URL:https://kraftwerk-chemnitz.de/event/chemnitzer-anime-treff-40/
LOCATION:Kraftwerk e.V. Jugendklub\, Kaßbergstraße 36\, Chemnitz\, 09112\, Deutschland
CATEGORIES:Veranstaltungen
ORGANIZER;CN="Kraftwerk e.V.":MAILTO:kraftwerk-chemnitz@t-online.de
END:VEVENT
BEGIN:VEVENT
DTSTART;VALUE=DATE:20230805
DTEND;VALUE=DATE:20230807
DTSTAMP:20260421T121320
CREATED:20230609T095829Z
LAST-MODIFIED:20230609T095829Z
UID:5171-1691193600-1691366399@kraftwerk-chemnitz.de
SUMMARY:Cosplay Fotoevent
DESCRIPTION:Cosplayer und Freunde der Verkleidung treffen sich\, \nverschiedene Kulissen stehen für Fotos zur Verfügung. \nvon 10:00 bis 18:00 Uhr
URL:https://kraftwerk-chemnitz.de/event/cosplay-fotoevent/
LOCATION:Kraftwerk e.V.\, Kaßbergstraße 36\, 09112 Chemnitz
CATEGORIES:Events
ORGANIZER;CN="Kraftwerk e.V.":MAILTO:kraftwerk-chemnitz@t-online.de
END:VEVENT
BEGIN:VEVENT
DTSTART;VALUE=DATE:20230708
DTEND;VALUE=DATE:20230709
DTSTAMP:20260421T121320
CREATED:20230427T123823Z
LAST-MODIFIED:20230427T123823Z
UID:5057-1688774400-1688860799@kraftwerk-chemnitz.de
SUMMARY:Cosplay - Tanabataball
DESCRIPTION:Beim Cosplayball gibt es wieder gute Musik\, einen Tanzkurs und einen Fotoraum. \nEs erfolgt die Wahl einer Ballkönigin und eines Ballkönigs. \n  \n16:00 – 24:00 Uhr \nEinlass: 16:00 Uhr \nEintritt: 15\,00 €
URL:https://kraftwerk-chemnitz.de/event/cosplay-tanabataball/
LOCATION:Kraftwerk e.V. – Saal
CATEGORIES:Veranstaltungen
ORGANIZER;CN="Kraftwerk e.V.":MAILTO:kraftwerk-chemnitz@t-online.de
END:VEVENT
BEGIN:VEVENT
DTSTART;TZID=Europe/Berlin:20221022T120000
DTEND;TZID=Europe/Berlin:20221022T220000
DTSTAMP:20260421T121320
CREATED:20220906T145318Z
LAST-MODIFIED:20220906T145318Z
UID:4515-1666440000-1666476000@kraftwerk-chemnitz.de
SUMMARY:Halloween-Cosplay-Party
DESCRIPTION:Eintritt: 5\,00 €
URL:https://kraftwerk-chemnitz.de/event/halloween-cosplay-party-2/
LOCATION:AG & Kurse
CATEGORIES:Veranstaltungen
END:VEVENT
BEGIN:VEVENT
DTSTART;VALUE=DATE:20221002
DTEND;VALUE=DATE:20221003
DTSTAMP:20260421T121320
CREATED:20220906T124739Z
LAST-MODIFIED:20220906T124739Z
UID:4511-1664668800-1664755199@kraftwerk-chemnitz.de
SUMMARY:Chemnitzer Anime Treff
DESCRIPTION:Cosplayer\, Spielinteressierte und Freunde der Verkleidung treffen sich\, tauschen Erfahrungen…\nEintritt:. frei\nBeginn: 11:30 Uhr
URL:https://kraftwerk-chemnitz.de/event/chemnitzer-anime-treff-36/
LOCATION:Kraftwerk e.V. Jugendklub\, Kaßbergstraße 36\, Chemnitz\, 09112\, Deutschland
CATEGORIES:Veranstaltungen
END:VEVENT
BEGIN:VEVENT
DTSTART;VALUE=DATE:20220702
DTEND;VALUE=DATE:20220703
DTSTAMP:20260421T121320
CREATED:20220617T134952Z
LAST-MODIFIED:20220617T134952Z
UID:4490-1656720000-1656806399@kraftwerk-chemnitz.de
SUMMARY:Cosplayball - Tanabata-Ball
DESCRIPTION:Anime- und Mangafans in verschiedenen prunkvollen Kostümen treffen sich zu einem tanzreichen Abend. \nEs gibt wieder gute Musik\, einen Tanzkurs und einen Fotoraum. \nMit der Wahl zu Ballkönigin und Ballkönig werden die schönsten Kostüme prämiert. \nDas Programm: \n16:00 / 16:30 Uhr Tanzworkshops \n18:00 – 24:00 Cosplayball \n0:00 – 1:00 Aftershowparty \n  \nEinlass: 16:00 Uhr \nEintritt: 10\,00 € \n  \n 
URL:https://kraftwerk-chemnitz.de/event/cosplayball-tanabata-ball-2/
LOCATION:Start
CATEGORIES:Events,Veranstaltungen
END:VEVENT
BEGIN:VEVENT
DTSTART;TZID=Europe/Berlin:20220319T100000
DTEND;TZID=Europe/Berlin:20220319T180000
DTSTAMP:20260421T121320
CREATED:20220225T173330Z
LAST-MODIFIED:20220225T173330Z
UID:4427-1647684000-1647712800@kraftwerk-chemnitz.de
SUMMARY:Cosplay Fototreffen
DESCRIPTION:Es stehen verschiedene Hindergründe und Kulissen zur Verfügung\, um sich zu fotografieren. \nUnkostenbeitrag: 2\,00 €
URL:https://kraftwerk-chemnitz.de/event/cosplay-fototreffen/
LOCATION:AG & Kurse
CATEGORIES:Veranstaltungen
END:VEVENT
BEGIN:VEVENT
DTSTART;TZID=Europe/Berlin:20211030T180000
DTEND;TZID=Europe/Berlin:20211030T230000
DTSTAMP:20260421T121320
CREATED:20210924T164833Z
LAST-MODIFIED:20210924T164833Z
UID:4088-1635616800-1635634800@kraftwerk-chemnitz.de
SUMMARY:Halloween-Cosplay-Party
DESCRIPTION:Einlass: 16:00 Uhr \nEintritt: 3\,00 €
URL:https://kraftwerk-chemnitz.de/event/halloween-cosplay-party/
LOCATION:AG & Kurse
CATEGORIES:Events,Veranstaltungen
END:VEVENT
END:VCALENDAR