BEGIN:VCALENDAR
VERSION:2.0
PRODID:-//Kraftwerk Chemnitz - ECPv6.15.18//NONSGML v1.0//EN
CALSCALE:GREGORIAN
METHOD:PUBLISH
X-ORIGINAL-URL:https://kraftwerk-chemnitz.de
X-WR-CALDESC:Veranstaltungen für Kraftwerk Chemnitz
REFRESH-INTERVAL;VALUE=DURATION:PT1H
X-Robots-Tag:noindex
X-PUBLISHED-TTL:PT1H
BEGIN:VTIMEZONE
TZID:Europe/Berlin
BEGIN:DAYLIGHT
TZOFFSETFROM:+0100
TZOFFSETTO:+0200
TZNAME:CEST
DTSTART:20240331T010000
END:DAYLIGHT
BEGIN:STANDARD
TZOFFSETFROM:+0200
TZOFFSETTO:+0100
TZNAME:CET
DTSTART:20241027T010000
END:STANDARD
BEGIN:DAYLIGHT
TZOFFSETFROM:+0100
TZOFFSETTO:+0200
TZNAME:CEST
DTSTART:20250330T010000
END:DAYLIGHT
BEGIN:STANDARD
TZOFFSETFROM:+0200
TZOFFSETTO:+0100
TZNAME:CET
DTSTART:20251026T010000
END:STANDARD
BEGIN:DAYLIGHT
TZOFFSETFROM:+0100
TZOFFSETTO:+0200
TZNAME:CEST
DTSTART:20260329T010000
END:DAYLIGHT
BEGIN:STANDARD
TZOFFSETFROM:+0200
TZOFFSETTO:+0100
TZNAME:CET
DTSTART:20261025T010000
END:STANDARD
END:VTIMEZONE
BEGIN:VEVENT
DTSTART;TZID=Europe/Berlin:20251023T180000
DTEND;TZID=Europe/Berlin:20251023T200000
DTSTAMP:20260421T175627
CREATED:20251009T093219Z
LAST-MODIFIED:20251009T093219Z
UID:7291-1761242400-1761249600@kraftwerk-chemnitz.de
SUMMARY:Kendo-Lesung
DESCRIPTION:In Zusammenarbeit mit dem Palisander-Verlag \nund der Kendo-Abteilung des PSV Chemnitz \ngibt es diese Action-Lesung\, in der sich Geschichten \naus dem alten Japan und Schaukämpfe \ndes wohl beeindruckendsten Kampfsportes \nder Welt abwechseln. \n  \nUhrzeit: 18:00 bis 20:00 Uhr \nEintritt: 5\,00 €
URL:https://kraftwerk-chemnitz.de/event/kendo-lesung/
LOCATION:Kraftwerk e.V. – Saal
CATEGORIES:Events
ORGANIZER;CN="Kraftwerk e.V.":MAILTO:kraftwerk-chemnitz@t-online.de
END:VEVENT
END:VCALENDAR