BEGIN:VCALENDAR
VERSION:2.0
PRODID:-//Kraftwerk Chemnitz - ECPv6.15.18//NONSGML v1.0//EN
CALSCALE:GREGORIAN
METHOD:PUBLISH
X-ORIGINAL-URL:https://kraftwerk-chemnitz.de
X-WR-CALDESC:Veranstaltungen für Kraftwerk Chemnitz
REFRESH-INTERVAL;VALUE=DURATION:PT1H
X-Robots-Tag:noindex
X-PUBLISHED-TTL:PT1H
BEGIN:VTIMEZONE
TZID:Europe/Berlin
BEGIN:DAYLIGHT
TZOFFSETFROM:+0100
TZOFFSETTO:+0200
TZNAME:CEST
DTSTART:20230326T010000
END:DAYLIGHT
BEGIN:STANDARD
TZOFFSETFROM:+0200
TZOFFSETTO:+0100
TZNAME:CET
DTSTART:20231029T010000
END:STANDARD
BEGIN:DAYLIGHT
TZOFFSETFROM:+0100
TZOFFSETTO:+0200
TZNAME:CEST
DTSTART:20240331T010000
END:DAYLIGHT
BEGIN:STANDARD
TZOFFSETFROM:+0200
TZOFFSETTO:+0100
TZNAME:CET
DTSTART:20241027T010000
END:STANDARD
BEGIN:DAYLIGHT
TZOFFSETFROM:+0100
TZOFFSETTO:+0200
TZNAME:CEST
DTSTART:20250330T010000
END:DAYLIGHT
BEGIN:STANDARD
TZOFFSETFROM:+0200
TZOFFSETTO:+0100
TZNAME:CET
DTSTART:20251026T010000
END:STANDARD
END:VTIMEZONE
BEGIN:VEVENT
DTSTART;TZID=Europe/Berlin:20241107T150000
DTEND;TZID=Europe/Berlin:20241107T163000
DTSTAMP:20260422T145508
CREATED:20240816T065341Z
LAST-MODIFIED:20240816T065341Z
UID:5878-1730991600-1730997000@kraftwerk-chemnitz.de
SUMMARY:Da Capo Musikcafé
DESCRIPTION:Rhythmus für den Alltag!\nMusik für Senioren in Chemnitz präsentiert: \n„Vom Schauspiel bis Chanson mit Matthias Bega“\n  \nNancy Gibson plaudert mit Matthias Bega\, Schauspieler\, Chansonsänger\, Regie- und Projektarbeit\, Fachberater für Musiktheater an Musikschulen. \nEr arbeitet auch als Sprecher für Werbung und Hörspiele für Filmdrehs für den MDR\, ZDF oder arte. \nViel Interessantes berichtet er über sein Aufgabengebiet und präsentiert seine Chansons. \nEintritt: 7\,00 € inklusive Kaffee und Kuchen ab 14:00 Uhr\nDas Musikcafé Da Capo ist eine Kooperationsveranstaltung zwischen der Städtischen Musikschule Chemnitz und dem Kraftwerk e.V.
URL:https://kraftwerk-chemnitz.de/event/da-capo-musikcafe-47/
LOCATION:Kraftwerk e.V. – Saal
CATEGORIES:Konzert,Veranstaltungen
END:VEVENT
END:VCALENDAR