BEGIN:VCALENDAR
VERSION:2.0
PRODID:-//Kraftwerk Chemnitz - ECPv6.15.18//NONSGML v1.0//EN
CALSCALE:GREGORIAN
METHOD:PUBLISH
X-ORIGINAL-URL:https://kraftwerk-chemnitz.de
X-WR-CALDESC:Veranstaltungen für Kraftwerk Chemnitz
REFRESH-INTERVAL;VALUE=DURATION:PT1H
X-Robots-Tag:noindex
X-PUBLISHED-TTL:PT1H
BEGIN:VTIMEZONE
TZID:Europe/Berlin
BEGIN:DAYLIGHT
TZOFFSETFROM:+0100
TZOFFSETTO:+0200
TZNAME:CEST
DTSTART:20230326T010000
END:DAYLIGHT
BEGIN:STANDARD
TZOFFSETFROM:+0200
TZOFFSETTO:+0100
TZNAME:CET
DTSTART:20231029T010000
END:STANDARD
BEGIN:DAYLIGHT
TZOFFSETFROM:+0100
TZOFFSETTO:+0200
TZNAME:CEST
DTSTART:20240331T010000
END:DAYLIGHT
BEGIN:STANDARD
TZOFFSETFROM:+0200
TZOFFSETTO:+0100
TZNAME:CET
DTSTART:20241027T010000
END:STANDARD
BEGIN:DAYLIGHT
TZOFFSETFROM:+0100
TZOFFSETTO:+0200
TZNAME:CEST
DTSTART:20250330T010000
END:DAYLIGHT
BEGIN:STANDARD
TZOFFSETFROM:+0200
TZOFFSETTO:+0100
TZNAME:CET
DTSTART:20251026T010000
END:STANDARD
END:VTIMEZONE
BEGIN:VEVENT
DTSTART;TZID=Europe/Berlin:20241119T160000
DTEND;TZID=Europe/Berlin:20241119T200000
DTSTAMP:20260424T013803
CREATED:20241030T164808Z
LAST-MODIFIED:20241030T164808Z
UID:6618-1732032000-1732046400@kraftwerk-chemnitz.de
SUMMARY:Das ist unsere 25. Party
DESCRIPTION:Es ist normal\, verschieden zu sein. \nEine Veranstaltung für Menschen mit und ohne Handicap mit guter Musik\, Tanz und gastronomischer Versorgung. \nDas Programm: \n16:00 Uhr    Eröffnung des Aktionstages mit Marco Neubert \n16:05 Uhr    Musik mit der Band vom Haus 7\, Wohnstätte Altendorf\, Heim gGmbH \n16:40 Uhr   Theatergruppe „Das Krippenspiel“\, Wohnstätte Altendorf\, Heim gGmbH \n17:15 Uhr    Marcel Schmitz rappt und Vorstellung Fotoecke\, Stadtmission Chemnitz e.V. \n17:30 Uhr   „HaBiBi“ mit orientalischen Tänzen und Gesang mit Janine Nicolai\, \nFreizeitclub der Lebenshilfe e.V. / Ambulante Hilfen und Assistenz \n18:00 Uhr    Musik zum Tanzen \n18:30 Uhr    Tanz im Saal mit der Band AnTon von der Lebenshilfe Bernburg gGmbH \n20:00 Uhr   Partyende \nGast: Swen Kaatz \n  \n  \n 
URL:https://kraftwerk-chemnitz.de/event/das-ist-unsere-25-party/
LOCATION:Kraftwerk e.V. – Saal
CATEGORIES:Events
ORGANIZER;CN="Kraftwerk e.V.":MAILTO:kraftwerk-chemnitz@t-online.de
END:VEVENT
END:VCALENDAR