BEGIN:VCALENDAR
VERSION:2.0
PRODID:-//Kraftwerk Chemnitz - ECPv6.15.18//NONSGML v1.0//EN
CALSCALE:GREGORIAN
METHOD:PUBLISH
X-WR-CALNAME:Kraftwerk Chemnitz
X-ORIGINAL-URL:https://kraftwerk-chemnitz.de
X-WR-CALDESC:Veranstaltungen für Kraftwerk Chemnitz
REFRESH-INTERVAL;VALUE=DURATION:PT1H
X-Robots-Tag:noindex
X-PUBLISHED-TTL:PT1H
BEGIN:VTIMEZONE
TZID:Europe/Berlin
BEGIN:DAYLIGHT
TZOFFSETFROM:+0100
TZOFFSETTO:+0200
TZNAME:CEST
DTSTART:20190331T010000
END:DAYLIGHT
BEGIN:STANDARD
TZOFFSETFROM:+0200
TZOFFSETTO:+0100
TZNAME:CET
DTSTART:20191027T010000
END:STANDARD
BEGIN:DAYLIGHT
TZOFFSETFROM:+0100
TZOFFSETTO:+0200
TZNAME:CEST
DTSTART:20200329T010000
END:DAYLIGHT
BEGIN:STANDARD
TZOFFSETFROM:+0200
TZOFFSETTO:+0100
TZNAME:CET
DTSTART:20201025T010000
END:STANDARD
BEGIN:DAYLIGHT
TZOFFSETFROM:+0100
TZOFFSETTO:+0200
TZNAME:CEST
DTSTART:20210328T010000
END:DAYLIGHT
BEGIN:STANDARD
TZOFFSETFROM:+0200
TZOFFSETTO:+0100
TZNAME:CET
DTSTART:20211031T010000
END:STANDARD
BEGIN:DAYLIGHT
TZOFFSETFROM:+0100
TZOFFSETTO:+0200
TZNAME:CEST
DTSTART:20220327T010000
END:DAYLIGHT
BEGIN:STANDARD
TZOFFSETFROM:+0200
TZOFFSETTO:+0100
TZNAME:CET
DTSTART:20221030T010000
END:STANDARD
BEGIN:DAYLIGHT
TZOFFSETFROM:+0100
TZOFFSETTO:+0200
TZNAME:CEST
DTSTART:20230326T010000
END:DAYLIGHT
BEGIN:STANDARD
TZOFFSETFROM:+0200
TZOFFSETTO:+0100
TZNAME:CET
DTSTART:20231029T010000
END:STANDARD
END:VTIMEZONE
BEGIN:VEVENT
DTSTART;TZID=Europe/Berlin:20220707T180000
DTEND;TZID=Europe/Berlin:20220707T193000
DTSTAMP:20260420T143506
CREATED:20220617T140934Z
LAST-MODIFIED:20220617T140934Z
UID:4492-1657216800-1657222200@kraftwerk-chemnitz.de
SUMMARY:Bewegte Zwanziger
DESCRIPTION:„Chemnitz in den 1920er Jahren“\nVortrag mit Karin Meisel\, Verein der Gästeführer Chemnitz e.V. \n  \nEintritt frei
URL:https://kraftwerk-chemnitz.de/event/bewegte-zwanziger/
LOCATION:Start
CATEGORIES:Veranstaltungen
END:VEVENT
BEGIN:VEVENT
DTSTART;TZID=Europe/Berlin:20220615T150000
DTEND;TZID=Europe/Berlin:20220615T163000
DTSTAMP:20260420T143506
CREATED:20220503T103529Z
LAST-MODIFIED:20220503T103529Z
UID:4451-1655305200-1655310600@kraftwerk-chemnitz.de
SUMMARY:In Chemnitz entdeckt
DESCRIPTION:„Humor mit Schuss“ – im Gespräch mit Comedyant Ede Sachsenmeyer.\n  \nEiner muss auf Ordnung achten und alles sauber halten! Ede Sachsenmeyer ist sich seiner Mission bewusst. \nIn seiner Funktion als Hausmeister hat Ede Sachsenmeyer aber jede Menge Stress. Noch mehr Stress hat er mit seiner Gudsten\, was seine Elfriede ist. \nAber Ede macht sich auch um andere Dinge zwischen Himmel und Erde seine unermüdlichen Gedanken. \nManche sagen\, Sachsenmeyer sei ein bisschen dämlich\, andere sagen er sei bauernschlau. In seinem Programm beweist er allen das glatte Gegenteil – er ist beides! \nEr kann einfach nicht geradeaus denken. Immer gibt es Abschweiffungen\, kleine Spitzen und jede Menge Nonsens. \nAber oft hockt hinter dem nächsten Spaß eine Spitze\, eine Provokation! \nIm Gespräch lässt uns Ede Sachsenmeyer hinter die Kulissen des Humors blicken. \n  \nEintritt: 5\,00 €
URL:https://kraftwerk-chemnitz.de/event/in-chemnitz-entdeckt-9/
LOCATION:Start
CATEGORIES:Vortragsreihe
END:VEVENT
BEGIN:VEVENT
DTSTART;TZID=Europe/Berlin:20220511T150000
DTEND;TZID=Europe/Berlin:20220511T163000
DTSTAMP:20260420T143506
CREATED:20220414T082917Z
LAST-MODIFIED:20220414T082917Z
UID:4442-1652281200-1652286600@kraftwerk-chemnitz.de
SUMMARY:In Chemnitz entdeckt
DESCRIPTION:„Kaßberg-Gefängnis: Vom Gedenkort zur Gedenkstätte“\nIm Gespräch mit Hanka Kliese\, Lern- und Gedenkort Kaßberggefängnis e.V. \nIm Mai ist der Lern-und Gedenkort Kaßberg-Gefängnis e.V. in der Reihe „In Chemnitz entdeckt“ im Kraftwerk zu Gast\, der gegenwärtig den früheren Zellentrakt B der ehemaligen Haftanstalt zur Gedenkstätte umbaut. \nDas Kaßberg-Gefängnis war der zentrale Abwicklungsort des Häftlingsfreikaufs aus der DDR. Für die meisten der mehr als 33.000 politischen Gefangenen\, die von der Bundesrepublik zwischen 1962/1963 und 1989 freigekauft wurden\, gingen von hier aus die Busse in die Freiheit.\nAußerdem diente der Gebäudekomplex als Untersuchungshaftanstalt der Staatssicherheit und zuvor des NKWD. In der Zeit des Nationalsozialismus waren auf dem Kaßberg Angehörige unterschiedlicher Opfergruppen inhaftiert. \nEintritt: 5\,00 € \n 
URL:https://kraftwerk-chemnitz.de/event/in-chemnitz-entdeckt-8/
LOCATION:Start
CATEGORIES:Veranstaltungen,Vortragsreihe
END:VEVENT
BEGIN:VEVENT
DTSTART;TZID=Europe/Berlin:20220413T150000
DTEND;TZID=Europe/Berlin:20220413T163000
DTSTAMP:20260420T143506
CREATED:20220225T173659Z
LAST-MODIFIED:20220225T173659Z
UID:4428-1649862000-1649867400@kraftwerk-chemnitz.de
SUMMARY:In Chemnitz entdeckt
DESCRIPTION:„Ich singe auf meinem Weg“\nmit Valérie Suty (Sopranistin\, Gesangslehrerin\, Chorleiterin) \nDas Singen ist ihre große Leidenschaft. Mit ihrer charmanten Bühnenpräsenz erreicht sie auf vielen Bühnen der Welt die Herzen des Publikums.\nAn diesem Nachmittag nimmt sie Valérie Suty mit auf ihre ganz persönliche\, musikalische LebensWeltReise. \nUntermalt mit ihren liebsten Liedern\, begleitet auf dem Flügel\, erzählt sie von ihrem Aufwachsen in Grenoble\, ihrem Leben in Paris\, der aufregenden Zeit in Amerika\, ihren Weg über Berlin nach Chemnitz\,\nihrem heutigen Lebensmittelpunkt. \nAm Ende dieses wunderbaren Nachmittags werden Sie nach Hause gehen\, in der Gewissheit\, dass die Musik die Seele streichelt und dass gemeinsames Singen das Leben für den Moment leichter werden lässt. \nEintritt: 5\,00 €
URL:https://kraftwerk-chemnitz.de/event/in-chemnitz-entdeckt-7/
LOCATION:Start
CATEGORIES:Veranstaltungen,Vortragsreihe
END:VEVENT
BEGIN:VEVENT
DTSTART;VALUE=DATE:20220406
DTEND;VALUE=DATE:20220407
DTSTAMP:20260420T143506
CREATED:20220225T174609Z
LAST-MODIFIED:20220225T174609Z
UID:4429-1649203200-1649289599@kraftwerk-chemnitz.de
SUMMARY:Maskenball
DESCRIPTION:Maskenball – Wie ein Virus die Welt verändert\,\nZeitgeschichte in Kunst und Poesie\nEin literarischer Abend mit Sigrid Klemm und Conny Hartmann \nIm Rahmen der Veranstaltung erfolgt eine Präsentation ausgewählter Ergebnisse eines Projektes der Grundschule Siegmar. \nKooperationsveranstaltung des 1. Chemnitzer Autorenverein e.V. und Kraftwerk e.V. \nEintritt: 5\,00 € \nBeginn. 17:30 Uhr
URL:https://kraftwerk-chemnitz.de/event/maskenball/
LOCATION:Start
CATEGORIES:Veranstaltungen
END:VEVENT
BEGIN:VEVENT
DTSTART;TZID=Europe/Berlin:20220309T150000
DTEND;TZID=Europe/Berlin:20220309T163000
DTSTAMP:20260420T143506
CREATED:20220210T173031Z
LAST-MODIFIED:20220210T173031Z
UID:4194-1646838000-1646843400@kraftwerk-chemnitz.de
SUMMARY:In Chemnitz entdeckt
DESCRIPTION:Veronika Ahnert – „Benno und der Hüter des Rätsels“\n  \nIm vergangenen Jahr lobte die Stadt Chemnitz erstmalig den Schreibwettbewerb „Dein Chemnitz. Dein Märchen“ aus. \nAus ca. 70 Einsendungen wählte die Jury das Märchen „Benno und der Hüter des Rätsels“ von Veronika Ahnert auf den ersten Platz. \nAm 01. Dezember 2021 wurde das Märchen gemeinsam mit zwei weiteren prämierten Geschichten im ersten Band des Chemnitzer Märchenbuches \nvon der Stadt Chemnitz über den Verlag edition claus veröffentlicht. \nAm 09. März 2022 findet im Soziokulturellen Zentrum Kraftwerk die erste öffentliche Lesung der Autorin des Gewinnermärchens statt. \nVeronika Ahnert nimmt Sie dabei auf eine spannende und abenteuerliche Reise quer durch die Stadt mit\, um gemeinsam mit Benno \ndie Lösung eines Rätsels zu finden und lässt Sie dabei bekannte Orte und Dinge in völlig neuem Licht sehen. \nIm Anschluss besteht die Gelegenheit\, mit der Autorin ins Gespräch zu kommen und Bücher signieren zu lassen. \n  \nSaal Kraftwerk \nBeginn: 15:00 Uhr \nEintritt: 5\,00 € \nAnmeldung erbeten unter Tel. 0371 383903-0 \nEs gelten die am Veranstaltungstag gültigen Corona-Bestimmungen.
URL:https://kraftwerk-chemnitz.de/event/in-chemnitz-entdeckt-6/
LOCATION:Start
CATEGORIES:Veranstaltungen,Vortragsreihe
END:VEVENT
BEGIN:VEVENT
DTSTART;TZID=Europe/Berlin:20211208T150000
DTEND;TZID=Europe/Berlin:20211208T163000
DTSTAMP:20260420T143506
CREATED:20210910T081559Z
LAST-MODIFIED:20210910T081559Z
UID:4070-1638975600-1638981000@kraftwerk-chemnitz.de
SUMMARY:In Chemnitz entdeckt
DESCRIPTION:Diese Veranstaltung ist leider abgesagt.\nVotragsreihe mit dem Thema: \n„Der Beharrliche und das offene Prinzip“\nmit Prof. Karl Clauss Dietel\, Gestalter \nund \nDr. Antje Neumann-Golle\, Kunstsammlungen Chemnitz \nBeginn: 15:00 Uhr \nEintritt: 5\,00 € \nOrt: Saal
URL:https://kraftwerk-chemnitz.de/event/in-chemnitz-entdeckt-5/
LOCATION:Start
CATEGORIES:Veranstaltungen,Vortragsreihe
END:VEVENT
BEGIN:VEVENT
DTSTART;TZID=Europe/Berlin:20211124T150000
DTEND;TZID=Europe/Berlin:20211124T163000
DTSTAMP:20260420T143506
CREATED:20210910T080031Z
LAST-MODIFIED:20210910T080031Z
UID:4065-1637766000-1637771400@kraftwerk-chemnitz.de
SUMMARY:In Chemnitz entdeckt
DESCRIPTION:Diese Veranstaltung ist leider abgesagt.\nVortragsreihe mit dem Thema: \n„Die Macht der Farben – Harmonie und Wohlgefühl“\nmit Ute Dziuballa\, Chemitzerin \nBeginn: 15:00 Uhr \nEintritt: 5\,00 € \nOrt: Saal
URL:https://kraftwerk-chemnitz.de/event/in-chemnitz-entdeckt-4/
LOCATION:Start
CATEGORIES:Veranstaltungen,Vortragsreihe
END:VEVENT
BEGIN:VEVENT
DTSTART;TZID=Europe/Berlin:20211027T150000
DTEND;TZID=Europe/Berlin:20211027T163000
DTSTAMP:20260420T143506
CREATED:20210728T091544Z
LAST-MODIFIED:20210728T091544Z
UID:4011-1635346800-1635352200@kraftwerk-chemnitz.de
SUMMARY:In Chemnitz entdeckt
DESCRIPTION:Vortragsreihe mit dem Thema: \n„Imker aus Leidenschaft“ – Erfahrungen eines Stadtimkers in Chemnitz\nmit Mirko Gläser\, Stadtimker \nBeginn: 15:00 Uhr \nEintritt: 5\,00 € \nOrt: Saal
URL:https://kraftwerk-chemnitz.de/event/in-chemnitz-entdeckt-3/
LOCATION:Start
CATEGORIES:Veranstaltungen,Vortragsreihe
END:VEVENT
BEGIN:VEVENT
DTSTART;TZID=Europe/Berlin:20210915T150000
DTEND;TZID=Europe/Berlin:20210915T163000
DTSTAMP:20260420T143506
CREATED:20210727T165744Z
LAST-MODIFIED:20210727T165744Z
UID:3987-1631718000-1631723400@kraftwerk-chemnitz.de
SUMMARY:In Chemnitz entdeckt
DESCRIPTION:Vortragreihe mit dem Thema: \n„Wissen\, wo der Pfeffer wächst“ – eine Reise zum Ursprung des Geschmacks und in die Welt der Gewürze\nmit Richard Friedrich\, Gewürzexperte\, Direkt vom Feld \nBeginn: 15:00 Uhr \nEintritt: 5\,00 € \nOrt: Saal
URL:https://kraftwerk-chemnitz.de/event/in-chemnitz-entdeckt-2/
LOCATION:Start
CATEGORIES:Veranstaltungen,Vortragsreihe
END:VEVENT
BEGIN:VEVENT
DTSTART;TZID=Europe/Berlin:20210825T150000
DTEND;TZID=Europe/Berlin:20210825T163000
DTSTAMP:20260420T143506
CREATED:20210713T141335Z
LAST-MODIFIED:20210713T141335Z
UID:3976-1629903600-1629909000@kraftwerk-chemnitz.de
SUMMARY:In Chemnitz entdeckt
DESCRIPTION:Eine neue Vortragsreihe beginnt unter dem Titel \n„In Chemnitz entdeckt“\n  \nDas Thema heute lautet: \n„Sympathie auf den zweiten Blick“ mit Uwe Steimle (Kabarettist) und Uwe Dziuballa (Chemnitzer)\nBeginn: 15:00 Uhr \nEintritt: 5\,00 € \nOrt: Saal \n 
URL:https://kraftwerk-chemnitz.de/event/in-chemnitz-entdeckt/
LOCATION:Start
CATEGORIES:Vortragsreihe
END:VEVENT
BEGIN:VEVENT
DTSTART;VALUE=DATE:20200207
DTEND;VALUE=DATE:20200208
DTSTAMP:20260420T143506
CREATED:20200123T130013Z
LAST-MODIFIED:20200123T130013Z
UID:3184-1581033600-1581119999@kraftwerk-chemnitz.de
SUMMARY:Lichtbildervortrag
DESCRIPTION:Der Allgemeine Deutsche Fahrrad-Club Chemnitz e.V. präsentiert Vorträge zu interessanten Radreisen Ihrer Mitglieder und radfahrender Bürger. \nAnschließend ist ein Austausch von Erfahrungen und Tipps zwischen den Teilnehmern des Abends möglich. \nWeitere Informationen: \nhttps://www.adfc-chemnitz.de/news/old.php?J=2020 \nEinlass: 17:30 Uhr \nBeginn:18:00 Uhr
URL:https://kraftwerk-chemnitz.de/event/lichtbildervortrag/
LOCATION:Start
CATEGORIES:Veranstaltungen
END:VEVENT
END:VCALENDAR